BEGIN:VCALENDAR
VERSION:2.0
PRODID:-//wp-events-plugin.com//7.2.3.1//EN
TZID:Australia/Adelaide
X-WR-TIMEZONE:Australia/Adelaide
BEGIN:VEVENT
UID:23@anfe.org.au
DTSTART;TZID=Australia/Adelaide:20260505T093000
DTEND;TZID=Australia/Adelaide:20260505T140000
DTSTAMP:20260422T011430Z
URL:https://anfe.org.au/events/goodwood-bowling-then-pasadena-shopping-cen
 tre/
SUMMARY:Goodwood Bowling then Pasadena Shopping Centre
DESCRIPTION:Have some with a game of bowling and then enjoy the fine foods 
 at the Pasadena Shopping Centre\n\n&nbsp\;\n\n&nbsp\;\n\nTrip Duration: 4.
 5 Hours\n\nAdditional Client Expenses: \n\nBowling Cost $19.90\n+ Lunch
CATEGORIES:out-and-about
END:VEVENT
BEGIN:VTIMEZONE
TZID:Australia/Adelaide
X-LIC-LOCATION:Australia/Adelaide
BEGIN:STANDARD
DTSTART:20260405T020000
TZOFFSETFROM:+1030
TZOFFSETTO:+0930
TZNAME:ACST
END:STANDARD
END:VTIMEZONE
END:VCALENDAR